View In:
ArcGIS JavaScript
ArcGIS Online Map Viewer
ArcGIS Earth
ArcGIS Pro
Service Description:
Map Name: HRWP_EnhancedNHS
Legend
All Layers and Tables
Layers:
Description: The watershed refined enhanced natural heritage system for the HRWP consists of existing natural cover (to protect), potential natural cover (areas that could be restored to provide ecosystem and habitat benefits), and contributing areas. The base layer is from the TRCA 2022 regional target NHS (2022) and was refined with HRWP land use and natural cover (2020), accounting for developing areas and the proposed Highway 413. TRCA and organizations can use this to collaborate on priority areas for securement, protection, restoration, and green infrastructure implementation projects. The new concept of contributing areas outside of the natural areas (in built portions) can be used to inform landscape planning and design as well as urban forest and green infrastructure initiatives to support ecosystem functions.
Service Item Id: 3d501f8361c54e49a1a2080f346b80bf
Copyright Text: TRCA
Spatial Reference:
102100
(3857)
LatestVCSWkid(0)
Single Fused Map Cache: true
Tile Info:
- Height: 256.0
- Width: 256.0
- DPI: 96.0
-
Levels of Detail: 23
-
Level ID: 1
[ Start Tile, End Tile ]
- Resolution: 78271.5169639999
- Scale: 2.95828763795777E8
-
Level ID: 2
[ Start Tile, End Tile ]
- Resolution: 39135.7584820001
- Scale: 1.47914381897889E8
-
Level ID: 3
[ Start Tile, End Tile ]
- Resolution: 19567.8792409999
- Scale: 7.3957190948944E7
-
Level ID: 4
[ Start Tile, End Tile ]
- Resolution: 9783.93962049996
- Scale: 3.6978595474472E7
-
Level ID: 5
[ Start Tile, End Tile ]
- Resolution: 4891.96981024998
- Scale: 1.8489297737236E7
- Format: PNG32
- Compression Quality: 0.0
- Origin: X: -2.0037508342787E7
Y: 2.0037508342787E7
- Spatial Reference: 102100
(3857)
LatestVCSWkid(0)
Storage Info:
- Storage Format: esriMapCacheStorageModeCompactV2
- Packet Size: 128
Initial Extent:
XMin: -8913726.774556769
YMin: 5408853.257948409
XMax: -8832136.472739082
YMax: 5469633.271149526
Spatial Reference: 102100
(0)
LatestVCSWkid(0)
Full Extent:
XMin: -8908871.775725435
YMin: 5408539.883404841
XMax: -8839760.430753816
YMax: 5463920.002536218
Spatial Reference: 102100
(0)
LatestVCSWkid(0)
Units: esriMeters
Supported Image Format Types: PNG32,PNG24,PNG,JPG,DIB,TIFF,EMF,PS,PDF,GIF,SVG,SVGZ,BMP
Document Info:
Title:
Author:
Comments:
Subject:
Category:
Keywords:
AntialiasingMode: None
TextAntialiasingMode: Force
Supports Dynamic Layers: false
MaxRecordCount: 1000
MaxSelectionCount: 0
MaxImageHeight: 4096
MaxImageWidth: 4096
Supported Query Formats: JSON, geoJSON, PBF
Supports Query Data Elements: true
Min Scale: 320000
Max Scale: 2496
Min LOD: 11
Max LOD: 17
Supports Datum Transformation: true
Child Resources:
Info
Supported Operations:
QueryLegends
Return Updates