View In:
ArcGIS JavaScript
ArcGIS Online Map Viewer
ArcGIS Earth
Service Description: This layer is the Future Management Scenario 1 of the Humber River Watershed Plan (HRWP). The HRWP has 3 Future Management Scenarios. This raster version includes the general landuse (natural, rural, urban)classes.Assumptions for the Future Management Scenarios are found in the HRWP Scenario Analysis Report.
Scenario 1 assumes urban expansion (Peel New Urban Area/York identified future urban areas ) as identified in Official Plans and full build out of the whitebelt lands , and assumes whitebelt lands are urban (outside of existing natural cover). Minimal or no enhancements to natural cover, urban forest canopy, and stormwater management. Includes proposed Highway 413 and other approved major infrastructure/development projects or MZOs as of May 2023.
Name: HRWP_GeneralLandUse_Scenario1
Description: This layer is the Future Management Scenario 1 of the Humber River Watershed Plan (HRWP). The HRWP has 3 Future Management Scenarios. This raster version includes the general landuse (natural, rural, urban)classes.Assumptions for the Future Management Scenarios are found in the HRWP Scenario Analysis Report.
Scenario 1 assumes urban expansion (Peel New Urban Area/York identified future urban areas ) as identified in Official Plans and full build out of the whitebelt lands , and assumes whitebelt lands are urban (outside of existing natural cover). Minimal or no enhancements to natural cover, urban forest canopy, and stormwater management. Includes proposed Highway 413 and other approved major infrastructure/development projects or MZOs as of May 2023.
Single Fused Map Cache: false
Extent:
XMin: 578242.2811000012
YMin: 4832112.260000002
XMax: 627612.2811000012
YMax: 4871312.260000002
Spatial Reference: 26917
(26917)
LatestVCSWkid(0)
Initial Extent:
XMin: 578242.2811000012
YMin: 4832112.260000002
XMax: 627612.2811000012
YMax: 4871312.260000002
Spatial Reference: 26917
(26917)
LatestVCSWkid(0)
Full Extent:
XMin: 578242.2811000012
YMin: 4832112.260000002
XMax: 627612.2811000012
YMax: 4871312.260000002
Spatial Reference: 26917
(26917)
LatestVCSWkid(0)
Pixel Size X: 10.0
Pixel Size Y: 10.0
Band Count: 1
Pixel Type: U4
RasterFunction Infos: {"rasterFunctionInfos": [{
"name": "None",
"description": "",
"help": ""
}]}
Mensuration Capabilities: Basic
Inspection Capabilities:
Has Histograms: true
Has Colormap: false
Has Multi Dimensions : false
Rendering Rule:
Min Scale: 0
Max Scale: 0
Copyright Text: TRCA
Service Data Type: esriImageServiceDataTypeThematic
Min Values: 1
Max Values: 3
Mean Values: 2.1259332576866976
Standard Deviation Values: 0.8087265298867852
Object ID Field:
Fields:
None
Default Mosaic Method: Center
Allowed Mosaic Methods:
SortField:
SortValue: null
Mosaic Operator: First
Default Compression Quality: 75
Default Resampling Method: Bilinear
Max Record Count: null
Max Image Height: 4100
Max Image Width: 15000
Max Download Image Count: null
Max Mosaic Image Count: null
Allow Raster Function: true
Allow Copy: true
Allow Analysis: true
Allow Compute TiePoints: false
Supports Statistics: false
Supports Advanced Queries: false
Use StandardizedQueries: true
Raster Type Infos:
Name: Raster Dataset
Description: Supports all ArcGIS Raster Datasets
Help:
Has Raster Attribute Table: true
Edit Fields Info: null
Ownership Based AccessControl For Rasters: null
Child Resources:
Info
Raster Attribute Table
Histograms
Statistics
Key Properties
Legend
Raster Function Infos
Supported Operations:
Export Image
Identify
Measure
Compute Histograms
Compute Statistics Histograms
Get Samples
Compute Class Statistics
Query Boundary
Compute Pixel Location
Compute Angles
Validate
Project