{ "currentVersion": 11.5, "serviceDescription": "

This layer is the Future Management Scenario 1 of the Humber River Watershed Plan (HRWP). The HRWP has 3 Future Management Scenarios. <\/SPAN>This raster version <\/SPAN>includes the general landuse (natural, rural, urban)<\/SPAN>classes<\/SPAN>.<\/SPAN>Assumptions for the Future Management Scenarios are found in the HRWP Scenario Analysis Report.<\/SPAN><\/P>
Scenario 1 assumes urban expansion (Peel New Urban Area/York identified future urban areas ) as identified in Official Plans and full build out of the whitebelt lands , and assumes whitebelt lands are urban (outside of existing natural cover). Minimal or no enhancements to natural cover, urban forest canopy, and stormwater management. Includes proposed Highway 413 and other approved major infrastructure/development projects or MZOs as of May 2023.<\/SPAN><\/P><\/DIV><\/DIV><\/DIV>", "serviceItemId": "cc29f1ecf8134eea9902d9df2a55ecbf", "name": "HRWP_GeneralLandUse_Scenario1", "description": "

This layer is the Future Management Scenario 1 of the Humber River Watershed Plan (HRWP). The HRWP has 3 Future Management Scenarios. <\/SPAN>This raster version <\/SPAN>includes the general landuse (natural, rural, urban)<\/SPAN>classes<\/SPAN>.<\/SPAN>Assumptions for the Future Management Scenarios are found in the HRWP Scenario Analysis Report.<\/SPAN><\/P>
Scenario 1 assumes urban expansion (Peel New Urban Area/York identified future urban areas ) as identified in Official Plans and full build out of the whitebelt lands , and assumes whitebelt lands are urban (outside of existing natural cover). Minimal or no enhancements to natural cover, urban forest canopy, and stormwater management. Includes proposed Highway 413 and other approved major infrastructure/development projects or MZOs as of May 2023.<\/SPAN><\/P><\/DIV><\/DIV><\/DIV>", "extent": { "xmin": 578242.2811000012, "ymin": 4832112.260000002, "xmax": 627612.2811000012, "ymax": 4871312.260000002, "spatialReference": { "wkid": 26917, "latestWkid": 26917 } }, "initialExtent": { "xmin": 578242.2811000012, "ymin": 4832112.260000002, "xmax": 627612.2811000012, "ymax": 4871312.260000002, "spatialReference": { "wkid": 26917, "latestWkid": 26917 } }, "fullExtent": { "xmin": 578242.2811000012, "ymin": 4832112.260000002, "xmax": 627612.2811000012, "ymax": 4871312.260000002, "spatialReference": { "wkid": 26917, "latestWkid": 26917 } }, "sortableFields": "", "bandCount": 1, "pixelType": "U4", "minValues": [ 1 ], "maxValues": [ 3 ], "meanValues": [ 2.1259332576866976 ], "stdvValues": [ 0.8087265298867852 ], "serviceProperties": "Center<\/MosaicMethod>First<\/MosaicOperator>true<\/SortAscending><\/LockImageID><\/TileOrderField>0<\/TileOrderBase>0.000000<\/AvgImageSpacingX>0.000000<\/AvgImageSpacingY>0.0<\/ViewPointX>0.0<\/ViewPointY>0.0<\/ViewPointDefShiftX>0.0<\/ViewPointDefShiftY>None<\/CompressionMethod>75<\/CompressionQuality>0.010000<\/CompressionTolerance>Bilinear<\/SamplingMethod><\/ImageServiceProperties><\/ImageServer>", "allowedFields": "", "hasMultidimensions": false, "pixelSizeX": 10, "pixelSizeY": 10, "meanPixelSize": 10, "datasetFormat": "FGDBR", "uncompressedSize": 9676520, "blockWidth": 128, "blockHeight": 128, "compressionType": "LZ77", "bandNames": [ "Band_1" ], "allowCopy": true, "allowAnalysis": true, "itemAccess": false, "inspectionCapabilities": "", "minPixelSize": 0, "maxPixelSize": 0, "copyrightText": "TRCA", "serviceDataType": "esriImageServiceDataTypeThematic", "serviceSourceType": "esriImageServiceSourceTypeDataset", "objectIdField": "", "fields": [], "capabilities": "Image,Metadata,Mensuration", "defaultMosaicMethod": "Center", "allowedMosaicMethods": "", "sortField": "", "sortValue": null, "sortAscending": true, "mosaicOperator": "First", "defaultCompressionQuality": 75, "defaultResamplingMethod": "Bilinear", "maxImageHeight": 4100, "maxImageWidth": 15000, "allowRasterFunction": true, "rasterFunctionInfos": [ { "name": "None", "description": "", "help": "" } ], "rasterTypeInfos": [ { "name": "Raster Dataset", "description": "Supports all ArcGIS Raster Datasets", "help": "" } ], "mensurationCapabilities": "Basic", "hasHistograms": true, "hasColormap": false, "hasRasterAttributeTable": true, "minScale": 0, "maxScale": 0, "exportTilesAllowed": false, "supportsStatistics": false, "supportsAdvancedQueries": false, "editFieldsInfo": null, "ownershipBasedAccessControlForRasters": null, "allowComputeTiePoints": false, "useStandardizedQueries": true, "advancedQueryCapabilities": { "useStandardizedQueries": true, "supportsStatistics": false, "supportsOrderBy": false, "supportsDistinct": false, "supportsPagination": false }, "spatialReference": { "wkid": 26917, "latestWkid": 26917 } }