View In:
ArcGIS JavaScript
ArcGIS Online Map Viewer
ArcGIS Earth
ArcGIS Pro
Service Description: <div style='text-align:Left;'><p><span>This data is used to provide users with reference information for mapping purposes. This dataset resides in the waterbalance.gdb database.</span></p><p><span>The hydrogeological information presented in the Water Balance Web Application is derived from hydrogeological modelling, and contains inherent uncertainty. The water budget values shown are based on a regional model developed by the Regional Municipality of York with funding from the Ministry of the Environment and Climate Change and the Ministry of Natural Resources and Forestry, and should be used with caution at the site scale. In addition to being scale dependent, the web application is temporally dependent. The water supply information represents 30-year ‘normal’ or average conditions (Oct 1983- Oct 2013), and will generally be different from the water balance parameters observed at any point in time.</span></p><p><span>https://s3-ca-central-1.amazonaws.com/trcaca/app/uploads/2019/10/21120917/DOC_20191021_WHPA-Q_WBGuidance_Ver2.1.pdf</span></p></div>
Map Name: Water Balance
Legend
All Layers and Tables
Dynamic Legend
Dynamic All Layers
Layers:
Description: This data is used to provide users with reference information for mapping purposes. This dataset resides in the waterbalance.gdb database.The hydrogeological information presented in the Water Balance Web Application is derived from hydrogeological modelling, and contains inherent uncertainty. The water budget values shown are based on a regional model developed by the Regional Municipality of York with funding from the Ministry of the Environment and Climate Change and the Ministry of Natural Resources and Forestry, and should be used with caution at the site scale. In addition to being scale dependent, the web application is temporally dependent. The water supply information represents 30-year ‘normal’ or average conditions (Oct 1983- Oct 2013), and will generally be different from the water balance parameters observed at any point in time.https://s3-ca-central-1.amazonaws.com/trcaca/app/uploads/2019/10/21120917/DOC_20191021_WHPA-Q_WBGuidance_Ver2.1.pdf
Service Item Id: 0036b63093434db0a5107db659a56ded
Copyright Text: ORMGP
Spatial Reference:
102100
(3857)
LatestVCSWkid(0)
Single Fused Map Cache: true
Tile Info:
- Height: 256.0
- Width: 256.0
- DPI: 96.0
-
Levels of Detail: 24
-
Level ID: 1
[ Start Tile, End Tile ]
- Resolution: 78271.5169639999
- Scale: 2.95828763795777E8
-
Level ID: 2
[ Start Tile, End Tile ]
- Resolution: 39135.7584820001
- Scale: 1.47914381897889E8
-
Level ID: 3
[ Start Tile, End Tile ]
- Resolution: 19567.8792409999
- Scale: 7.3957190948944E7
-
Level ID: 4
[ Start Tile, End Tile ]
- Resolution: 9783.93962049996
- Scale: 3.6978595474472E7
-
Level ID: 5
[ Start Tile, End Tile ]
- Resolution: 4891.96981024998
- Scale: 1.8489297737236E7
- Format: Mixed
- Compression Quality: 75.0
- Origin: X: -2.0037508342787E7
Y: 2.0037508342787E7
- Spatial Reference: 102100
(3857)
LatestVCSWkid(0)
Storage Info:
- Storage Format: esriMapCacheStorageModeCompactV2
- Packet Size: 128
Initial Extent:
XMin: -8935962.555324048
YMin: 5354031.066264941
XMax: -8753137.273145359
YMax: 5528630.096823782
Spatial Reference: 102100
(0)
LatestVCSWkid(0)
Full Extent:
XMin: -8909024.548367174
YMin: 5401530.606973433
XMax: -8791776.712388124
YMax: 5474593.471226987
Spatial Reference: 102100
(0)
LatestVCSWkid(0)
Units: esriMeters
Supported Image Format Types: PNG32,PNG24,PNG,JPG,DIB,TIFF,EMF,PS,PDF,GIF,SVG,SVGZ,BMP
Document Info:
Title: Water Balance
Author:
Comments:
Subject:
Category:
Keywords: runoff,waterbalance,TRCA
AntialiasingMode: Fast
TextAntialiasingMode: Force
Supports Dynamic Layers: true
MaxRecordCount: 2000
MaxSelectionCount: 2000
MaxImageHeight: 4096
MaxImageWidth: 4096
Supported Query Formats: JSON, geoJSON, PBF
Supports Query Data Elements: true
Min Scale: 577790.554289
Max Scale: 18055.954822
Min LOD: 10
Max LOD: 15
Supports Datum Transformation: true
Child Resources:
Info
Dynamic Layer
Supported Operations:
Export Map
QueryLegends
QueryDomains
Find
Return Updates