View In:
ArcGIS JavaScript
ArcGIS Online Map Viewer
ArcGIS Earth
Service Description:
Name: FullFeature_TileCache_Final
Description: N/A
Single Fused Map Cache: true
Tile Info:
- Height: 256
- Width: 256
- DPI: 96
-
Levels of Detail: 11
- Format: LERC
- Compression Quality: 0.0
- LERC Error: 0.0
- Origin: X: -2.00377E7
Y: 3.02411E7
- Spatial Reference: 102100
(3857)
VCSWkid(5713)
LatestVCSWkid(5713)
Storage Info:
- Storage Format: esriMapCacheStorageModeCompactV2
- Packet Size: 128
Extent:
XMin: -8881051.676037176
YMin: 5445022.378338971
XMax: -8802321.53691009
YMax: 5461578.160932716
Spatial Reference: 102100
(3857)
VCSWkid(5713)
LatestVCSWkid(5713)
Initial Extent:
XMin: -8881051.676037176
YMin: 5445022.378338971
XMax: -8802321.53691009
YMax: 5461578.160932716
Spatial Reference: 102100
(3857)
VCSWkid(5713)
LatestVCSWkid(5713)
Full Extent:
XMin: -8881051.676037176
YMin: 5445022.378338971
XMax: -8802321.53691009
YMax: 5461578.160932716
Spatial Reference: 102100
(3857)
VCSWkid(5713)
LatestVCSWkid(5713)
Pixel Size X: 0.07464553541190416
Pixel Size Y: 0.07464553541190416
Band Count: 1
Pixel Type:
RasterFunction Infos: {"rasterFunctionInfos": null}
Mensuration Capabilities:
Inspection Capabilities:
Has Histograms: false
Has Colormap: false
Has Multi Dimensions : false
Rendering Rule:
Min Scale: 288895.277144
Max Scale: 4513.988705
Min LOD: 0
Max LOD: 6
Resampling: true
Copyright Text: N/A
Service Data Type: esriImageServiceDataTypeElevation
Min Values: N/A
Max Values: N/A
Mean Values: N/A
Standard Deviation Values: N/A
Object ID Field: N/A
Fields:
None
Default Mosaic Method: N/A
Allowed Mosaic Methods: N/A
SortField: N/A
SortValue: N/A
Mosaic Operator: N/A
Default Compression Quality: null
Default Resampling Method: N/A
Max Record Count: null
Max Image Height: null
Max Image Width: null
Max Download Image Count: null
Max Mosaic Image Count: null
Allow Raster Function: null
Allow Copy: null
Allow Analysis: null
Allow Compute TiePoints: false
Supports Statistics: false
Supports Advanced Queries: false
Use StandardizedQueries: false
Raster Type Infos:
None
Has Raster Attribute Table: null
Edit Fields Info: N/A
Ownership Based AccessControl For Rasters: N/A
Child Resources:
Info