View In:
ArcGIS JavaScript
ArcGIS Online Map Viewer
ArcGIS Earth
Service Description: Bathymetry
Name: Bathymetry
Description:
Single Fused Map Cache: false
Extent:
XMin: 589074.5613941001
YMin: 4772864.039865844
XMax: 736814.0311916928
YMax: 4876555.872557797
Spatial Reference: 26917
(26917)
LatestVCSWkid(0)
Initial Extent:
XMin: 589074.5613941001
YMin: 4772864.039865844
XMax: 736814.0311916928
YMax: 4876555.872557797
Spatial Reference: 26917
(26917)
LatestVCSWkid(0)
Full Extent:
XMin: 589074.5613941001
YMin: 4772864.039865844
XMax: 736814.0311916928
YMax: 4876555.872557797
Spatial Reference: 26917
(26917)
LatestVCSWkid(0)
Pixel Size X: 9.723540199920542
Pixel Size Y: 9.723540199920535
Band Count: 1
Pixel Type: F32
RasterFunction Infos: {"rasterFunctionInfos": [{
"name": "None",
"description": "",
"help": ""
}]}
Mensuration Capabilities: Basic
Inspection Capabilities:
Has Histograms: true
Has Colormap: false
Has Multi Dimensions : false
Rendering Rule:
Min Scale: 0
Max Scale: 0
Copyright Text:
Service Data Type: esriImageServiceDataTypeGeneric
Min Values: -100.16000366211
Max Values: 168.37666320801
Mean Values: -12.755224366425
Standard Deviation Values: 24.989718650009
Object ID Field:
Fields:
None
Default Mosaic Method: Center
Allowed Mosaic Methods:
SortField:
SortValue: null
Mosaic Operator: First
Default Compression Quality: 75
Default Resampling Method: Bilinear
Max Record Count: null
Max Image Height: 4100
Max Image Width: 15000
Max Download Image Count: null
Max Mosaic Image Count: null
Allow Raster Function: true
Allow Copy: true
Allow Analysis: true
Allow Compute TiePoints: false
Supports Statistics: false
Supports Advanced Queries: false
Use StandardizedQueries: true
Raster Type Infos:
Name: Raster Dataset
Description: Supports all ArcGIS Raster Datasets
Help:
Has Raster Attribute Table: false
Edit Fields Info: null
Ownership Based AccessControl For Rasters: null
Child Resources:
Info
Histograms
Statistics
Key Properties
Legend
Raster Function Infos
Supported Operations:
Export Image
Identify
Measure
Compute Histograms
Compute Statistics Histograms
Get Samples
Compute Class Statistics
Query Boundary
Compute Pixel Location
Compute Angles
Validate
Project