{
 "currentVersion": 11.5,
 "cimVersion": "3.5.0",
 "serviceDescription": "",
 "mapName": "MultiDimensional",
 "description": "",
 "copyrightText": "",
 "supportsDynamicLayers": true,
 "layers": [
  {
   "id": 20,
   "name": "SOLRIS_v3",
   "parentLayerId": -1,
   "defaultVisibility": true,
   "subLayerIds": null,
   "minScale": 0,
   "maxScale": 0,
   "type": "Raster Layer",
   "supportsDynamicLegends": true
  }
 ],
 "tables": [],
 "spatialReference": {
  "wkid": 102100,
  "latestWkid": 3857,
  "xyTolerance": 0.001,
  "zTolerance": 0.001,
  "mTolerance": 0.001,
  "falseX": -20037700,
  "falseY": -30241100,
  "xyUnits": 10000,
  "falseZ": -100000,
  "zUnits": 10000,
  "falseM": -100000,
  "mUnits": 10000
 },
 "singleFusedMapCache": true,
 "tileInfo": {
  "rows": 256,
  "cols": 256,
  "dpi": 96,
  "format": "Mixed",
  "compressionQuality": 75,
  "origin": {
   "x": -2.0037508342787E7,
   "y": 2.0037508342787E7
  },
  "spatialReference": {
   "wkid": 102100,
   "latestWkid": 3857,
   "xyTolerance": 0.001,
   "zTolerance": 0.001,
   "mTolerance": 0.001,
   "falseX": -20037700,
   "falseY": -30241100,
   "xyUnits": 1.4892314192838538E8,
   "falseZ": -100000,
   "zUnits": 10000,
   "falseM": -100000,
   "mUnits": 10000
  },
  "lods": [
   {
    "level": 0,
    "resolution": 156543.033928,
    "scale": 5.91657527591555E8
   },
   {
    "level": 1,
    "resolution": 78271.5169639999,
    "scale": 2.95828763795777E8
   },
   {
    "level": 2,
    "resolution": 39135.7584820001,
    "scale": 1.47914381897889E8
   },
   {
    "level": 3,
    "resolution": 19567.8792409999,
    "scale": 7.3957190948944E7
   },
   {
    "level": 4,
    "resolution": 9783.93962049996,
    "scale": 3.6978595474472E7
   },
   {
    "level": 5,
    "resolution": 4891.96981024998,
    "scale": 1.8489297737236E7
   },
   {
    "level": 6,
    "resolution": 2445.98490512499,
    "scale": 9244648.868618
   },
   {
    "level": 7,
    "resolution": 1222.99245256249,
    "scale": 4622324.434309
   },
   {
    "level": 8,
    "resolution": 611.49622628138,
    "scale": 2311162.217155
   },
   {
    "level": 9,
    "resolution": 305.748113140558,
    "scale": 1155581.108577
   },
   {
    "level": 10,
    "resolution": 152.874056570411,
    "scale": 577790.554289
   },
   {
    "level": 11,
    "resolution": 76.4370282850732,
    "scale": 288895.277144
   },
   {
    "level": 12,
    "resolution": 38.2185141425366,
    "scale": 144447.638572
   },
   {
    "level": 13,
    "resolution": 19.1092570712683,
    "scale": 72223.819286
   },
   {
    "level": 14,
    "resolution": 9.55462853563415,
    "scale": 36111.909643
   },
   {
    "level": 15,
    "resolution": 4.77731426794937,
    "scale": 18055.954822
   },
   {
    "level": 16,
    "resolution": 2.38865713397468,
    "scale": 9027.977411
   },
   {
    "level": 17,
    "resolution": 1.19432856685505,
    "scale": 4513.988705
   },
   {
    "level": 18,
    "resolution": 0.597164283559817,
    "scale": 2256.994353
   },
   {
    "level": 19,
    "resolution": 0.298582141647617,
    "scale": 1128.497176
   },
   {
    "level": 20,
    "resolution": 0.14929107082380833,
    "scale": 564.248588
   },
   {
    "level": 21,
    "resolution": 0.07464553541190416,
    "scale": 282.124294
   },
   {
    "level": 22,
    "resolution": 0.03732276770595208,
    "scale": 141.062147
   },
   {
    "level": 23,
    "resolution": 0.01866138385297604,
    "scale": 70.5310735
   }
  ]
 },
 "storageInfo": {
  "storageFormat": "esriMapCacheStorageModeCompactV2",
  "packetSize": 128
 },
 "initialExtent": {
  "xmin": -8840707.247731222,
  "ymin": 5430698.64594475,
  "xmax": -8837081.440470548,
  "ymax": 5432739.2165426165,
  "spatialReference": {
   "cs": "pcs",
   "wkid": 102100
  }
 },
 "fullExtent": {
  "xmin": -8930289.089898234,
  "ymin": 5274101.135942755,
  "xmax": -8471747.034173233,
  "ymax": 5505965.196068982,
  "spatialReference": {
   "cs": "pcs",
   "wkid": 102100
  }
 },
 "datesInUnknownTimezone": false,
 "minScale": 4622324.434309,
 "maxScale": 36111.909643,
 "minLOD": 7,
 "maxLOD": 14,
 "units": "esriMeters",
 "supportedImageFormatTypes": "PNG32,PNG24,PNG,JPG,DIB,TIFF,EMF,PS,PDF,GIF,SVG,SVGZ,BMP",
 "documentInfo": {
  "Title": "MultiDimensional",
  "Author": "",
  "Comments": "",
  "Subject": "",
  "Category": "",
  "Version": "3.4.0",
  "AntialiasingMode": "Fast",
  "TextAntialiasingMode": "Force",
  "Keywords": "SOLRIS,version,3"
 },
 "supportsQueryDomains": true,
 "capabilities": "Map,Query,Data",
 "supportedQueryFormats": "JSON, geoJSON, PBF",
 "exportTilesAllowed": false,
 "referenceScale": 0.0,
 "datumTransformations": [
  {
   "geoTransforms": [
    {
     "wkt2": "COORDINATEOPERATION[\"Custom_NAD83_NAD83CSRS_ON83CSv1\",SOURCECRS[GEOGCRS[\"GCS_North_American_1983\",DATUM[\"D_North_American_1983\",ELLIPSOID[\"GRS_1980\",6378137.0,298.257222101,LENGTHUNIT[\"Meter\",1.0]]],PRIMEM[\"Greenwich\",0.0,ANGLEUNIT[\"Degree\",0.0174532925199433]],CS[ellipsoidal,2],AXIS[\"Latitude (lat)\",north,ORDER[1],ANGLEUNIT[\"Degree\",0.0174532925199433]],AXIS[\"Longitude (lon)\",east,ORDER[2],ANGLEUNIT[\"Degree\",0.0174532925199433]]]],TARGETCRS[GEOGCRS[\"GCS_North_American_1983_CSRS\",DATUM[\"D_North_American_1983_CSRS\",ELLIPSOID[\"GRS_1980\",6378137.0,298.257222101,LENGTHUNIT[\"Meter\",1.0]]],PRIMEM[\"Greenwich\",0.0,ANGLEUNIT[\"Degree\",0.0174532925199433]],CS[ellipsoidal,2],AXIS[\"Latitude (lat)\",north,ORDER[1],ANGLEUNIT[\"Degree\",0.0174532925199433]],AXIS[\"Longitude (lon)\",east,ORDER[2],ANGLEUNIT[\"Degree\",0.0174532925199433]]]],METHOD[\"NTv2\"],PARAMETERFILE[\"canada/ON83CSv1\"]]",
     "wkt": "GEOGTRAN[\"Custom_NAD83_NAD83CSRS_ON83CSv1\",GEOGCS[\"GCS_North_American_1983\",DATUM[\"D_North_American_1983\",SPHEROID[\"GRS_1980\",6378137.0,298.257222101]],PRIMEM[\"Greenwich\",0.0],UNIT[\"Degree\",0.0174532925199433]],GEOGCS[\"GCS_North_American_1983_CSRS\",DATUM[\"D_North_American_1983_CSRS\",SPHEROID[\"GRS_1980\",6378137.0,298.257222101]],PRIMEM[\"Greenwich\",0.0],UNIT[\"Degree\",0.0174532925199433]],METHOD[\"NTv2\"],PARAMETER[\"Dataset_canada/ON83CSv1\",0.0]]",
     "transformForward": true,
     "name": "Custom_NAD83_NAD83CSRS_ON83CSv1"
    },
    {
     "wkid": 1946,
     "latestWkid": 1946,
     "transformForward": true,
     "name": "NAD_1983_CSRS_To_WGS_1984_2"
    }
   ]
  },
  {
   "geoTransforms": [
    {
     "wkid": 1946,
     "latestWkid": 1946,
     "transformForward": false,
     "name": "NAD_1983_CSRS_To_WGS_1984_2"
    },
    {
     "wkt2": "COORDINATEOPERATION[\"Custom_NAD83_NAD83CSRS_ON83CSv1\",SOURCECRS[GEOGCRS[\"GCS_North_American_1983\",DATUM[\"D_North_American_1983\",ELLIPSOID[\"GRS_1980\",6378137.0,298.257222101,LENGTHUNIT[\"Meter\",1.0]]],PRIMEM[\"Greenwich\",0.0,ANGLEUNIT[\"Degree\",0.0174532925199433]],CS[ellipsoidal,2],AXIS[\"Latitude (lat)\",north,ORDER[1],ANGLEUNIT[\"Degree\",0.0174532925199433]],AXIS[\"Longitude (lon)\",east,ORDER[2],ANGLEUNIT[\"Degree\",0.0174532925199433]]]],TARGETCRS[GEOGCRS[\"GCS_North_American_1983_CSRS\",DATUM[\"D_North_American_1983_CSRS\",ELLIPSOID[\"GRS_1980\",6378137.0,298.257222101,LENGTHUNIT[\"Meter\",1.0]]],PRIMEM[\"Greenwich\",0.0,ANGLEUNIT[\"Degree\",0.0174532925199433]],CS[ellipsoidal,2],AXIS[\"Latitude (lat)\",north,ORDER[1],ANGLEUNIT[\"Degree\",0.0174532925199433]],AXIS[\"Longitude (lon)\",east,ORDER[2],ANGLEUNIT[\"Degree\",0.0174532925199433]]]],METHOD[\"NTv2\"],PARAMETERFILE[\"canada/ON83CSv1\"]]",
     "wkt": "GEOGTRAN[\"Custom_NAD83_NAD83CSRS_ON83CSv1\",GEOGCS[\"GCS_North_American_1983\",DATUM[\"D_North_American_1983\",SPHEROID[\"GRS_1980\",6378137.0,298.257222101]],PRIMEM[\"Greenwich\",0.0],UNIT[\"Degree\",0.0174532925199433]],GEOGCS[\"GCS_North_American_1983_CSRS\",DATUM[\"D_North_American_1983_CSRS\",SPHEROID[\"GRS_1980\",6378137.0,298.257222101]],PRIMEM[\"Greenwich\",0.0],UNIT[\"Degree\",0.0174532925199433]],METHOD[\"NTv2\"],PARAMETER[\"Dataset_canada/ON83CSv1\",0.0]]",
     "transformForward": false,
     "name": "Custom_NAD83_NAD83CSRS_ON83CSv1"
    }
   ]
  },
  {
   "geoTransforms": [
    {
     "wkt2": "COORDINATEOPERATION[\"Custom_NAD83_NAD83CSRS_ON83CSv1\",SOURCECRS[GEOGCRS[\"GCS_North_American_1983\",DATUM[\"D_North_American_1983\",ELLIPSOID[\"GRS_1980\",6378137.0,298.257222101,LENGTHUNIT[\"Meter\",1.0]]],PRIMEM[\"Greenwich\",0.0,ANGLEUNIT[\"Degree\",0.0174532925199433]],CS[ellipsoidal,2],AXIS[\"Latitude (lat)\",north,ORDER[1],ANGLEUNIT[\"Degree\",0.0174532925199433]],AXIS[\"Longitude (lon)\",east,ORDER[2],ANGLEUNIT[\"Degree\",0.0174532925199433]]]],TARGETCRS[GEOGCRS[\"GCS_North_American_1983_CSRS\",DATUM[\"D_North_American_1983_CSRS\",ELLIPSOID[\"GRS_1980\",6378137.0,298.257222101,LENGTHUNIT[\"Meter\",1.0]]],PRIMEM[\"Greenwich\",0.0,ANGLEUNIT[\"Degree\",0.0174532925199433]],CS[ellipsoidal,2],AXIS[\"Latitude (lat)\",north,ORDER[1],ANGLEUNIT[\"Degree\",0.0174532925199433]],AXIS[\"Longitude (lon)\",east,ORDER[2],ANGLEUNIT[\"Degree\",0.0174532925199433]]]],METHOD[\"NTv2\"],PARAMETERFILE[\"canada/ON83CSv1\"]]",
     "wkt": "GEOGTRAN[\"Custom_NAD83_NAD83CSRS_ON83CSv1\",GEOGCS[\"GCS_North_American_1983\",DATUM[\"D_North_American_1983\",SPHEROID[\"GRS_1980\",6378137.0,298.257222101]],PRIMEM[\"Greenwich\",0.0],UNIT[\"Degree\",0.0174532925199433]],GEOGCS[\"GCS_North_American_1983_CSRS\",DATUM[\"D_North_American_1983_CSRS\",SPHEROID[\"GRS_1980\",6378137.0,298.257222101]],PRIMEM[\"Greenwich\",0.0],UNIT[\"Degree\",0.0174532925199433]],METHOD[\"NTv2\"],PARAMETER[\"Dataset_canada/ON83CSv1\",0.0]]",
     "transformForward": false,
     "name": "Custom_NAD83_NAD83CSRS_ON83CSv1"
    },
    {
     "wkid": 108190,
     "latestWkid": 108190,
     "transformForward": false,
     "name": "WGS_1984_(ITRF00)_To_NAD_1983"
    }
   ]
  },
  {
   "geoTransforms": [
    {
     "wkid": 108190,
     "latestWkid": 108190,
     "transformForward": true,
     "name": "WGS_1984_(ITRF00)_To_NAD_1983"
    },
    {
     "wkt2": "COORDINATEOPERATION[\"Custom_NAD83_NAD83CSRS_ON83CSv1\",SOURCECRS[GEOGCRS[\"GCS_North_American_1983\",DATUM[\"D_North_American_1983\",ELLIPSOID[\"GRS_1980\",6378137.0,298.257222101,LENGTHUNIT[\"Meter\",1.0]]],PRIMEM[\"Greenwich\",0.0,ANGLEUNIT[\"Degree\",0.0174532925199433]],CS[ellipsoidal,2],AXIS[\"Latitude (lat)\",north,ORDER[1],ANGLEUNIT[\"Degree\",0.0174532925199433]],AXIS[\"Longitude (lon)\",east,ORDER[2],ANGLEUNIT[\"Degree\",0.0174532925199433]]]],TARGETCRS[GEOGCRS[\"GCS_North_American_1983_CSRS\",DATUM[\"D_North_American_1983_CSRS\",ELLIPSOID[\"GRS_1980\",6378137.0,298.257222101,LENGTHUNIT[\"Meter\",1.0]]],PRIMEM[\"Greenwich\",0.0,ANGLEUNIT[\"Degree\",0.0174532925199433]],CS[ellipsoidal,2],AXIS[\"Latitude (lat)\",north,ORDER[1],ANGLEUNIT[\"Degree\",0.0174532925199433]],AXIS[\"Longitude (lon)\",east,ORDER[2],ANGLEUNIT[\"Degree\",0.0174532925199433]]]],METHOD[\"NTv2\"],PARAMETERFILE[\"canada/ON83CSv1\"]]",
     "wkt": "GEOGTRAN[\"Custom_NAD83_NAD83CSRS_ON83CSv1\",GEOGCS[\"GCS_North_American_1983\",DATUM[\"D_North_American_1983\",SPHEROID[\"GRS_1980\",6378137.0,298.257222101]],PRIMEM[\"Greenwich\",0.0],UNIT[\"Degree\",0.0174532925199433]],GEOGCS[\"GCS_North_American_1983_CSRS\",DATUM[\"D_North_American_1983_CSRS\",SPHEROID[\"GRS_1980\",6378137.0,298.257222101]],PRIMEM[\"Greenwich\",0.0],UNIT[\"Degree\",0.0174532925199433]],METHOD[\"NTv2\"],PARAMETER[\"Dataset_canada/ON83CSv1\",0.0]]",
     "transformForward": true,
     "name": "Custom_NAD83_NAD83CSRS_ON83CSv1"
    }
   ]
  }
 ],
 "supportsDatumTransformation": true,
 "activeRangeName": "",
 "currentRangeExtent": [
  1980,
  2024
 ],
 "archivingInfo": {
  "supportsHistoricMoment": false
 },
 "supportsClipping": true,
 "supportsSpatialFilter": true,
 "supportsTimeRelation": true,
 "supportsQueryDataElements": true,
 "mapUnits": {
  "uwkid": 9001
 },
 "maxSelectionCount": 2000,
 "maxRecordCount": 2000,
 "maxImageHeight": 4096,
 "maxImageWidth": 4096,
 "supportedExtensions": "",
 "serviceItemId": "9937d640f0394e76ac2f4ccd10dd78fd"
}
