{
 "version": 1.0,
 "tileBundlesPath": "./tile",
 "tileInfo": {
  "spatialReference": {
   "wkid": 102100,
   "latestWkid": 3857,
   "vcsWkid": 5713,
   "latestVcsWkid": 5713
  },
  "origin": {
   "x": -20037700,
   "y": 30241100
  },
  "rows": 256,
  "cols": 256,
  "dpi": 96,
  "lods": [
   {
    "level": 0,
    "resolution": 76.43702828507324,
    "scale": 288895.277144
   },
   {
    "level": 1,
    "resolution": 38.21851414253662,
    "scale": 144447.638572
   },
   {
    "level": 2,
    "resolution": 19.10925707126831,
    "scale": 72223.819286
   },
   {
    "level": 3,
    "resolution": 9.554628535634155,
    "scale": 36111.909643
   },
   {
    "level": 4,
    "resolution": 4.77731426794937,
    "scale": 18055.954822
   },
   {
    "level": 5,
    "resolution": 2.388657133974685,
    "scale": 9027.977411
   },
   {
    "level": 6,
    "resolution": 1.1943285668550503,
    "scale": 4513.988705
   },
   {
    "level": 7,
    "resolution": 0.5971642835598172,
    "scale": 2256.994353
   },
   {
    "level": 8,
    "resolution": 0.29858214164761665,
    "scale": 1128.497176
   },
   {
    "level": 9,
    "resolution": 0.14929107082380833,
    "scale": 564.248588
   }
  ],
  "format": "LERC",
  "compressionQuality": 0,
  "bandCount": 1,
  "lercError": 0,
  "storageFormat": "esriMapCacheStorageModeCompactV2",
  "packetSize": 128
 },
 "storageInfo": {
  "packetSize": 128,
  "storageFormat": "esriMapCacheStorageModeCompactV2"
 },
 "tileImageInfo": {
  "format": "LERC",
  "compressionQuality": 0,
  "bandCount": 1,
  "lercError": 0.01
 },
 "name": "BareEarth_Tile_Cache_Package",
 "minScale": 288895.277144,
 "maxScale": 4513.988705,
 "minLOD": 0,
 "maxLOD": 6,
 "spatialReference": {
  "wkid": 102100,
  "latestWkid": 3857,
  "vcsWkid": 5713,
  "latestVcsWkid": 5713
 },
 "units": "esriMeters",
 "serviceDescription": "",
 "resampling": true,
 "exportTilesAllowed": false,
 "initialExtent": {
  "xmin": -8881051.676037176,
  "ymin": 5445022.378338971,
  "xmax": -8802321.53691009,
  "ymax": 5461578.160932716,
  "spatialReference": {
   "wkid": 102100,
   "latestWkid": 3857,
   "vcsWkid": 5713,
   "latestVcsWkid": 5713
  }
 },
 "fullExtent": {
  "xmin": -8881051.676037176,
  "ymin": 5445022.378338971,
  "xmax": -8802321.53691009,
  "ymax": 5461578.160932716,
  "spatialReference": {
   "wkid": 102100,
   "latestWkid": 3857,
   "vcsWkid": 5713,
   "latestVcsWkid": 5713
  }
 },
 "currentVersion": 11.5,
 "mapName": "BareEarth_Tile_Cache_Package",
 "singleFusedMapCache": true,
 "type": "ImageServer",
 "capabilities": "Image,TilesOnly,Tilemap",
 "datasetFormat": "Cache/LERC",
 "compressionType": "LERC",
 "serviceDataType": "esriImageServiceDataTypeElevation",
 "cacheType": "Elevation",
 "blockWidth": 256,
 "blockHeight": 256,
 "bandCount": 1,
 "pixelSizeX": 0.14929107082380833,
 "pixelSizeY": 0.14929107082380833,
 "minPixelSize": 1.1943285668550503,
 "maxPixelSize": 76.43702828507324
}
