{ "currentVersion": 11.5, "serviceDescription": "

This layer is the Future Management Scenario 3 of the Humber River Watershed Plan (HRWP). The HRWP has 3 Future Management Scenarios.<\/SPAN>This raster version<\/SPAN>includes the general landuse (natural, rural, urban)<\/SPAN>classes<\/SPAN>. <\/SPAN>Assumptions for the Future Management Scenarios are found in the HRWP Scenario Analysis Report.<\/SPAN><\/P>
Scenario 3 Assumes urban expansion (Peel New Urban Area/York identified future urban areas1) as identified in Official Plans, and assumes these new urban areas are urban (same as Scenario 2). Includes optimal enhancements to natural cover (based on priority areas for improvements to terrestrial and aquatic ecology and the hydrological connections among them), urban forest canopy, and stormwater management. Includes proposed Highway 413 and other approved major infrastructure/development projects or MZOs as of May 2023.<\/SPAN><\/P><\/DIV>", "serviceItemId": "b9d7171224af432f912ba3a0a61fdbb6", "name": "HRWP_GeneralLandUse_Scenario3", "description": "

This layer is the Future Management Scenario 3 of the Humber River Watershed Plan (HRWP). The HRWP has 3 Future Management Scenarios.<\/SPAN>This raster version<\/SPAN>includes the general landuse (natural, rural, urban)<\/SPAN>classes<\/SPAN>. <\/SPAN>Assumptions for the Future Management Scenarios are found in the HRWP Scenario Analysis Report.<\/SPAN><\/P>
Scenario 3 Assumes urban expansion (Peel New Urban Area/York identified future urban areas1) as identified in Official Plans, and assumes these new urban areas are urban (same as Scenario 2). Includes optimal enhancements to natural cover (based on priority areas for improvements to terrestrial and aquatic ecology and the hydrological connections among them), urban forest canopy, and stormwater management. Includes proposed Highway 413 and other approved major infrastructure/development projects or MZOs as of May 2023.<\/SPAN><\/P><\/DIV>", "extent": { "xmin": 578242.2811000003, "ymin": 4832112.26, "xmax": 627612.2811000003, "ymax": 4871312.26, "spatialReference": { "wkid": 26917, "latestWkid": 26917 } }, "initialExtent": { "xmin": 578242.2811000003, "ymin": 4832112.26, "xmax": 627612.2811000003, "ymax": 4871312.26, "spatialReference": { "wkid": 26917, "latestWkid": 26917 } }, "fullExtent": { "xmin": 578242.2811000003, "ymin": 4832112.26, "xmax": 627612.2811000003, "ymax": 4871312.26, "spatialReference": { "wkid": 26917, "latestWkid": 26917 } }, "sortableFields": "", "bandCount": 1, "pixelType": "U4", "minValues": [ 1 ], "maxValues": [ 3 ], "meanValues": [ 2.2109162692208963 ], "stdvValues": [ 0.6875695244059178 ], "serviceProperties": "Center<\/MosaicMethod>First<\/MosaicOperator>true<\/SortAscending><\/LockImageID><\/TileOrderField>0<\/TileOrderBase>0.000000<\/AvgImageSpacingX>0.000000<\/AvgImageSpacingY>0.0<\/ViewPointX>0.0<\/ViewPointY>0.0<\/ViewPointDefShiftX>0.0<\/ViewPointDefShiftY>None<\/CompressionMethod>75<\/CompressionQuality>0.010000<\/CompressionTolerance>Bilinear<\/SamplingMethod><\/ImageServiceProperties><\/ImageServer>", "allowedFields": "", "hasMultidimensions": false, "pixelSizeX": 10, "pixelSizeY": 10, "meanPixelSize": 10, "datasetFormat": "FGDBR", "uncompressedSize": 9676520, "blockWidth": 128, "blockHeight": 128, "compressionType": "LZ77", "bandNames": [ "Band_1" ], "allowCopy": true, "allowAnalysis": true, "itemAccess": false, "inspectionCapabilities": "", "minPixelSize": 0, "maxPixelSize": 0, "copyrightText": "TRCA", "serviceDataType": "esriImageServiceDataTypeThematic", "serviceSourceType": "esriImageServiceSourceTypeDataset", "objectIdField": "", "fields": [], "capabilities": "Image,Metadata,Mensuration", "defaultMosaicMethod": "Center", "allowedMosaicMethods": "", "sortField": "", "sortValue": null, "sortAscending": true, "mosaicOperator": "First", "defaultCompressionQuality": 75, "defaultResamplingMethod": "Bilinear", "maxImageHeight": 4100, "maxImageWidth": 15000, "allowRasterFunction": true, "rasterFunctionInfos": [ { "name": "None", "description": "", "help": "" } ], "rasterTypeInfos": [ { "name": "Raster Dataset", "description": "Supports all ArcGIS Raster Datasets", "help": "" } ], "mensurationCapabilities": "Basic", "hasHistograms": true, "hasColormap": false, "hasRasterAttributeTable": true, "minScale": 0, "maxScale": 0, "exportTilesAllowed": false, "supportsStatistics": false, "supportsAdvancedQueries": false, "editFieldsInfo": null, "ownershipBasedAccessControlForRasters": null, "allowComputeTiePoints": false, "useStandardizedQueries": true, "advancedQueryCapabilities": { "useStandardizedQueries": true, "supportsStatistics": false, "supportsOrderBy": false, "supportsDistinct": false, "supportsPagination": false }, "spatialReference": { "wkid": 26917, "latestWkid": 26917 } }